BEGIN:VCALENDAR
VERSION:2.0
PRODID:-//Squarespace Inc/Squarespace 6//v6//EN
BEGIN:VEVENT
UID:61b6ffe7cc47c9786bf95aa4@squarespace.com
DTSTAMP:20220116T095711Z
DTSTART:20220210T190000Z
DTEND:20220210T210000Z
SUMMARY:ABGESAGT // Salon Morpheus
GEO:47.351702;8.561324
LOCATION:Millers\, Zürich\, Seefeldstrasse 225\, Zürich\, Schweiz
END:VEVENT
END:VCALENDAR
