BEGIN:VCALENDAR
VERSION:2.0
PRODID:-//Squarespace Inc/Squarespace 6//v6//EN
BEGIN:VEVENT
UID:65102c127d18a65044db04b9@squarespace.com
DTSTAMP:20230925T094506Z
DTSTART:20231103T180000Z
DTEND:20231103T210000Z
SUMMARY:SPAZ Lotto-Abend
GEO:47.372275;8.514665
LOCATION:Ämtlerstrasse 43\, 8003 Zürich\, Schweiz
END:VEVENT
END:VCALENDAR
