BEGIN:VCALENDAR
VERSION:2.0
PRODID:-//Squarespace Inc/Squarespace 6//v6//EN
BEGIN:VEVENT
UID:619b686f62ce8e3d326370cf@squarespace.com
DTSTAMP:20211122T095431Z
DTSTART:20211207T180000Z
DTEND:20211207T220000Z
SUMMARY:Weihnachts-Pop-Bingo
GEO:47.4799;8.300682
LOCATION:Milchbar Baden
END:VEVENT
END:VCALENDAR
