BEGIN:VCALENDAR
VERSION:2.0
PRODID:-//Squarespace Inc/Squarespace 6//v6//EN
BEGIN:VEVENT
UID:5e52ab64c762610ac569866e@squarespace.com
DTSTAMP:20200223T164731Z
DTSTART:20200226T170000Z
DTEND:20200226T210000Z
SUMMARY:Workshop mit Untamed Love! &amp\; Drag Show Sex Bingo
GEO:47.374604;8.548851
LOCATION:Universität Zürich\, KOL-H-317\, Rämistrasse 71\, 8006 Zürich\, Sc
 hweiz
END:VEVENT
END:VCALENDAR
